﻿BEGIN:VCALENDAR
VERSION:2.0
PRODID:-//Associação de Ciclismo da Madeira - ECPv6.15.20//NONSGML v1.0//EN
CALSCALE:GREGORIAN
METHOD:PUBLISH
X-WR-CALNAME:Associação de Ciclismo da Madeira
X-ORIGINAL-URL:https://acmadeira.pt
X-WR-CALDESC:Eventos para Associação de Ciclismo da Madeira
REFRESH-INTERVAL;VALUE=DURATION:PT1H
X-Robots-Tag:noindex
X-PUBLISHED-TTL:PT1H
BEGIN:VTIMEZONE
TZID:Europe/Lisbon
BEGIN:DAYLIGHT
TZOFFSETFROM:+0000
TZOFFSETTO:+0100
TZNAME:WEST
DTSTART:20250330T010000
END:DAYLIGHT
BEGIN:STANDARD
TZOFFSETFROM:+0100
TZOFFSETTO:+0000
TZNAME:WET
DTSTART:20251026T010000
END:STANDARD
BEGIN:DAYLIGHT
TZOFFSETFROM:+0000
TZOFFSETTO:+0100
TZNAME:WEST
DTSTART:20260329T010000
END:DAYLIGHT
BEGIN:STANDARD
TZOFFSETFROM:+0100
TZOFFSETTO:+0000
TZNAME:WET
DTSTART:20261025T010000
END:STANDARD
BEGIN:DAYLIGHT
TZOFFSETFROM:+0000
TZOFFSETTO:+0100
TZNAME:WEST
DTSTART:20270328T010000
END:DAYLIGHT
BEGIN:STANDARD
TZOFFSETFROM:+0100
TZOFFSETTO:+0000
TZNAME:WET
DTSTART:20271031T010000
END:STANDARD
END:VTIMEZONE
BEGIN:VEVENT
DTSTART;TZID=Europe/Lisbon:20260704T000000
DTEND;TZID=Europe/Lisbon:20260704T235959
DTSTAMP:20260422T074232
CREATED:20251222T120908Z
LAST-MODIFIED:20260311T131256Z
UID:4138-1783123200-1783209599@acmadeira.pt
SUMMARY:3ª Taça da Madeira de XCO / Encontro Regional de Escolas BTT- Globalgest 2026
DESCRIPTION:Programa\n\n\n\nBrevemente. \n\n\n\n\n\nDocumentos: \n\n\n\n\nRegulamentos\n\n\n\nInscrições Inscrições ainda não estão abertas. \n\n\n\n\nPartilhar:
URL:https://acmadeira.pt/evento/3a-taca-da-madeira-de-xco-2026/
CATEGORIES:Cross-Country
END:VEVENT
BEGIN:VEVENT
DTSTART;TZID=Europe/Lisbon:20260705T000000
DTEND;TZID=Europe/Lisbon:20260705T235959
DTSTAMP:20260422T074232
CREATED:20260112T115432Z
LAST-MODIFIED:20260225T090255Z
UID:4244-1783209600-1783295999@acmadeira.pt
SUMMARY:Encontro Regional de Escolas de CE - 2026
DESCRIPTION:Programa\n\n\n\n \n\n\n\n\n\nDocumentos: \n\n\n\n\nRegulamentos\n\n\n\nInscrições Inscrições ainda não estão abertas. \n\n\n\n\nPartilhar:
URL:https://acmadeira.pt/evento/encontro-regional-de-escolas-de-ce/
CATEGORIES:Escolas
END:VEVENT
BEGIN:VEVENT
DTSTART;TZID=Europe/Lisbon:20260711T000000
DTEND;TZID=Europe/Lisbon:20260712T235959
DTSTAMP:20260422T074232
CREATED:20251222T120946Z
LAST-MODIFIED:20260311T131344Z
UID:4139-1783728000-1783900799@acmadeira.pt
SUMMARY:3ª Taça da Madeira de Enduro e Mini-EDR - SOMEQ - 2026
DESCRIPTION:Programa\n\n\n\nBrevemente. \n\n\n\n\n\nDocumentos: \n\n\n\n\nRegulamentos\n\n\n\nInscrições Inscrições ainda não estão abertas. \n\n\n\n\nPartilhar:
URL:https://acmadeira.pt/evento/3a-taca-da-madeira-de-enduro-globalgest-2026/
CATEGORIES:Enduro
END:VEVENT
BEGIN:VEVENT
DTSTART;TZID=Europe/Lisbon:20260715T080000
DTEND;TZID=Europe/Lisbon:20260719T170000
DTSTAMP:20260422T074232
CREATED:20250719T124817Z
LAST-MODIFIED:20260311T131355Z
UID:3138-1784102400-1784480400@acmadeira.pt
SUMMARY:51ª Volta à Madeira em Bicicleta
DESCRIPTION:Programa\n\n\n\nBrevemente \n\n\n\n\n\nDocumentos: \n\n\n\n\nRegulamentos\n\n\n\nPrograma\n\n\n\nInscrições Inscrições ainda não estão abertas. \n\n\nPartilhar:
URL:https://acmadeira.pt/evento/51-volta-a-madeira-em-bicicleta/
CATEGORIES:Estrada,Volta
ATTACH;FMTTYPE=image/jpeg:https://acmadeira.pt/wp-content/uploads/2025/07/volta-51-2026.jpg
END:VEVENT
END:VCALENDAR