﻿BEGIN:VCALENDAR
VERSION:2.0
PRODID:-//Associação de Ciclismo da Madeira - ECPv6.15.20//NONSGML v1.0//EN
CALSCALE:GREGORIAN
METHOD:PUBLISH
X-WR-CALNAME:Associação de Ciclismo da Madeira
X-ORIGINAL-URL:https://acmadeira.pt
X-WR-CALDESC:Eventos para Associação de Ciclismo da Madeira
REFRESH-INTERVAL;VALUE=DURATION:PT1H
X-Robots-Tag:noindex
X-PUBLISHED-TTL:PT1H
BEGIN:VTIMEZONE
TZID:Europe/Lisbon
BEGIN:DAYLIGHT
TZOFFSETFROM:+0000
TZOFFSETTO:+0100
TZNAME:WEST
DTSTART:20250330T010000
END:DAYLIGHT
BEGIN:STANDARD
TZOFFSETFROM:+0100
TZOFFSETTO:+0000
TZNAME:WET
DTSTART:20251026T010000
END:STANDARD
BEGIN:DAYLIGHT
TZOFFSETFROM:+0000
TZOFFSETTO:+0100
TZNAME:WEST
DTSTART:20260329T010000
END:DAYLIGHT
BEGIN:STANDARD
TZOFFSETFROM:+0100
TZOFFSETTO:+0000
TZNAME:WET
DTSTART:20261025T010000
END:STANDARD
BEGIN:DAYLIGHT
TZOFFSETFROM:+0000
TZOFFSETTO:+0100
TZNAME:WEST
DTSTART:20270328T010000
END:DAYLIGHT
BEGIN:STANDARD
TZOFFSETFROM:+0100
TZOFFSETTO:+0000
TZNAME:WET
DTSTART:20271031T010000
END:STANDARD
END:VTIMEZONE
BEGIN:VEVENT
DTSTART;TZID=Europe/Lisbon:20260502T000000
DTEND;TZID=Europe/Lisbon:20260502T235959
DTSTAMP:20260422T054217
CREATED:20251222T120852Z
LAST-MODIFIED:20260421T131005Z
UID:4131-1777680000-1777766399@acmadeira.pt
SUMMARY:2ª Taça da Madeira de Enduro E Mini-EDR - SOMEQ - 2026
DESCRIPTION:Programa\n\n\n\n9h00: Início da competição principal no ponto 013h15: Inicio da competição mini-enduro no ponto 013h35: Previsão chegada primeiro atleta da competição principal15h05: Previsão chegada último atleta da competição principal16h00: Previsão de chegada do transfer do mini-enduro para o final17h00: Cerimónia protocolar de entrega de prémios (Sede Ludens Clube de Machico) \n\n\n\n\n\nDocumentos: \n\n\n\n\nRegulamentos\n\n\n\nPrograma / Racebook\n\n\n\nPercursos\n\n\n\nInscrições Inscrições ainda não estão abertas. \n\n\n\n\nPartilhar:
URL:https://acmadeira.pt/evento/2a-taca-da-madeira-de-enduro-someq-2026/
CATEGORIES:Enduro
ATTACH;FMTTYPE=image/jpeg:https://acmadeira.pt/wp-content/uploads/2025/12/2-ENDURO-machico.jpg
END:VEVENT
BEGIN:VEVENT
DTSTART;TZID=Europe/Lisbon:20260510T000000
DTEND;TZID=Europe/Lisbon:20260510T235959
DTSTAMP:20260422T054217
CREATED:20251222T120853Z
LAST-MODIFIED:20260421T131013Z
UID:4132-1778371200-1778457599@acmadeira.pt
SUMMARY:4ª Taça da Madeira de CE - Brisa Sem Açúcar  - 2026
DESCRIPTION:Programa\n\n\n\n08:00 – 08:30 – Abertura do secretariado08:30 – Reunião de diretores desportivos08:30 – 08:45 – Pesagem de bicicletas08:55 – Chamada para a Corrida09:00 – Início da Corrida12:00 – Entrega de Prémios \n\n\n\nNota: Junto ao Centro de Saúde das Achadas da Cruz \n\n\n\n\n\nDocumentos: \n\n\n\n\nRegulamentos\n\n\n\nPrograma\n\n\n\nInscrições Inscrições ainda não estão abertas. \n\n\n\n\nPartilhar:
URL:https://acmadeira.pt/evento/4a-taca-da-madeira-de-ce-brisa-2026/
CATEGORIES:Estrada
ATTACH;FMTTYPE=image/jpeg:https://acmadeira.pt/wp-content/uploads/2025/12/4-ESTRADA-seixal.jpg
END:VEVENT
BEGIN:VEVENT
DTSTART;TZID=Europe/Lisbon:20260517T000000
DTEND;TZID=Europe/Lisbon:20260517T235959
DTSTAMP:20260422T054217
CREATED:20251222T120853Z
LAST-MODIFIED:20260311T130956Z
UID:4133-1778976000-1779062399@acmadeira.pt
SUMMARY:2ª Taça da Madeira de XCO / 2º Encontro de Escolas BTT - Globalgest 2026
DESCRIPTION:Programa\n\n\n\nBrevemente. \n\n\n\n\n\nDocumentos: \n\n\n\n\nRegulamentos\n\n\n\nInscrições Inscrições ainda não estão abertas. \n\n\n\n\nPartilhar:
URL:https://acmadeira.pt/evento/2a-taca-da-madeira-de-xco-2026/
CATEGORIES:Cross-Country
END:VEVENT
BEGIN:VEVENT
DTSTART;TZID=Europe/Lisbon:20260531T000000
DTEND;TZID=Europe/Lisbon:20260531T235959
DTSTAMP:20260422T054217
CREATED:20251222T120907Z
LAST-MODIFIED:20260311T131032Z
UID:4134-1780185600-1780271999@acmadeira.pt
SUMMARY:3ª Taça da Madeira de DHI e Mini-DHI - A Confeitaria - 2026
DESCRIPTION:Programa\n\n\n\nBrevemente. \n\n\n\n\n\nDocumentos: \n\n\n\n\nRegulamentos\n\n\n\nInscrições Inscrições ainda não estão abertas. \n\n\n\n\nPartilhar:
URL:https://acmadeira.pt/evento/3a-taca-da-madeira-de-dhi-confeitaria-2026/
CATEGORIES:Downhill
END:VEVENT
END:VCALENDAR