﻿BEGIN:VCALENDAR
VERSION:2.0
PRODID:-//Associação de Ciclismo da Madeira - ECPv6.15.20//NONSGML v1.0//EN
CALSCALE:GREGORIAN
METHOD:PUBLISH
X-WR-CALNAME:Associação de Ciclismo da Madeira
X-ORIGINAL-URL:https://acmadeira.pt
X-WR-CALDESC:Eventos para Associação de Ciclismo da Madeira
REFRESH-INTERVAL;VALUE=DURATION:PT1H
X-Robots-Tag:noindex
X-PUBLISHED-TTL:PT1H
BEGIN:VTIMEZONE
TZID:Europe/Lisbon
BEGIN:DAYLIGHT
TZOFFSETFROM:+0000
TZOFFSETTO:+0100
TZNAME:WEST
DTSTART:20240331T010000
END:DAYLIGHT
BEGIN:STANDARD
TZOFFSETFROM:+0100
TZOFFSETTO:+0000
TZNAME:WET
DTSTART:20241027T010000
END:STANDARD
BEGIN:DAYLIGHT
TZOFFSETFROM:+0000
TZOFFSETTO:+0100
TZNAME:WEST
DTSTART:20250330T010000
END:DAYLIGHT
BEGIN:STANDARD
TZOFFSETFROM:+0100
TZOFFSETTO:+0000
TZNAME:WET
DTSTART:20251026T010000
END:STANDARD
BEGIN:DAYLIGHT
TZOFFSETFROM:+0000
TZOFFSETTO:+0100
TZNAME:WEST
DTSTART:20260329T010000
END:DAYLIGHT
BEGIN:STANDARD
TZOFFSETFROM:+0100
TZOFFSETTO:+0000
TZNAME:WET
DTSTART:20261025T010000
END:STANDARD
END:VTIMEZONE
BEGIN:VEVENT
DTSTART;TZID=Europe/Lisbon:20250709T150000
DTEND;TZID=Europe/Lisbon:20250713T130000
DTSTAMP:20260422T002047
CREATED:20241230T163550Z
LAST-MODIFIED:20250717T125811Z
UID:622-1752073200-1752411600@acmadeira.pt
SUMMARY:50ª Volta à Madeira em Bicicleta - FACCO
DESCRIPTION:Programa\n\n\n\nTerça-Feira – 08 de JulhoReunião dos Diretores Desportivos19:00 – Sala de Formação do Complexo PiscinasOlímpicas do Funchal \n\n\n\nQuarta-feira – 9 de Julho1ª Etapa – Ribeira Brava / Ponta do Sol (Canhas)15:00 – Partida da Prova15:45 – Chegada Prevista \n\n\n\nQuinta-feira – 10 de Julho2ª Etapa – Machico (Ribeira de Machico) / Funchal (Terreiro da Luta)10:00 – Partida da Prova11:10 – Chegada Prevista \n\n\n\nSexta-feira – 11 de Julho3ª Etapa – Santana / Porto Moniz (Santa)09:00 – Partida da Prova10:50 – Chegada Prevista \n\n\n\nSábado – 12 de Julho4ª Etapa A – Calheta (Prazeres) / Calheta (Prazeres)9:00 – Partida da Prova11:00 – Chegada Prevista \n\n\n\n4ªEtapa B (CRI) – Funchal (Areeiro) / Câmara de Lobos18:00 – Partida do 1º Ciclista19:15 – Partida do Último Ciclista \n\n\n\nDomingo – 13 de Julho5ª Etapa – Funchal / Funchal10:00 – Partida da Prova11:20 – Chegada Prevista \n\n\n\n\n\nDocumentos: \n\n\n\n\nPrograma\n\n\n\nRegulamento Particular\n\n\n\nLista de Inscritos\n\n\n\n\n\n\n\nComunicado 0\n\n\n\nComunicado 1\n\n\n\nComunicado 2\n\n\n\nComunicado 3\n\n\n\nComunicado 4\n\n\n\nHoras de Partida 4B\n\n\n\nComunicado 4B\n\n\n\nComunicado 6\n\n\n\nComunicado 7\n\n\n\n\n\n\n\nClass. Etapa 1\n\n\n\nClass. Etapa 2\n\n\n\nClass. Etapa 3\n\n\n\nClass. Etapa 4A\n\n\n\nClass. Etapa 4B\n\n\n\nClass. Etapa 5\n\n\n\n\n\nInscriçõesData limite: 2026-07-05 23:59:59  Inscrições Não Filiados (CPT ou OPEN)\n\n\n\n\n\n\n\n \nPartilhar:
URL:https://acmadeira.pt/evento/50a-volta-a-madeira-em-bicicleta-facco/
CATEGORIES:Estrada,Volta
ATTACH;FMTTYPE=image/jpeg:https://acmadeira.pt/wp-content/uploads/2024/12/Cartaz-Volta-a-madeira-2025-26_06_25.jpg
END:VEVENT
END:VCALENDAR