﻿BEGIN:VCALENDAR
VERSION:2.0
PRODID:-//Associação de Ciclismo da Madeira - ECPv6.15.20//NONSGML v1.0//EN
CALSCALE:GREGORIAN
METHOD:PUBLISH
X-WR-CALNAME:Associação de Ciclismo da Madeira
X-ORIGINAL-URL:https://acmadeira.pt
X-WR-CALDESC:Eventos para Associação de Ciclismo da Madeira
REFRESH-INTERVAL;VALUE=DURATION:PT1H
X-Robots-Tag:noindex
X-PUBLISHED-TTL:PT1H
BEGIN:VTIMEZONE
TZID:Europe/Lisbon
BEGIN:DAYLIGHT
TZOFFSETFROM:+0000
TZOFFSETTO:+0100
TZNAME:WEST
DTSTART:20250330T010000
END:DAYLIGHT
BEGIN:STANDARD
TZOFFSETFROM:+0100
TZOFFSETTO:+0000
TZNAME:WET
DTSTART:20251026T010000
END:STANDARD
BEGIN:DAYLIGHT
TZOFFSETFROM:+0000
TZOFFSETTO:+0100
TZNAME:WEST
DTSTART:20260329T010000
END:DAYLIGHT
BEGIN:STANDARD
TZOFFSETFROM:+0100
TZOFFSETTO:+0000
TZNAME:WET
DTSTART:20261025T010000
END:STANDARD
BEGIN:DAYLIGHT
TZOFFSETFROM:+0000
TZOFFSETTO:+0100
TZNAME:WEST
DTSTART:20270328T010000
END:DAYLIGHT
BEGIN:STANDARD
TZOFFSETFROM:+0100
TZOFFSETTO:+0000
TZNAME:WET
DTSTART:20271031T010000
END:STANDARD
END:VTIMEZONE
BEGIN:VEVENT
DTSTART;TZID=Europe/Lisbon:20261011T000000
DTEND;TZID=Europe/Lisbon:20261011T235959
DTSTAMP:20260422T130733
CREATED:20260112T120254Z
LAST-MODIFIED:20260128T150846Z
UID:4263-1791676800-1791763199@acmadeira.pt
SUMMARY:Campeonato da Madeira de CE / 2º Encontro de Escolas CE - Brisa Sem Açúcar - 2026
DESCRIPTION:Programa\n\n\n\n \n\n\n\n\n\nDocumentos: \n\n\n\n\nRegulamentos\n\n\n\nInscrições Inscrições ainda não estão abertas. \n\n\n\n\nPartilhar:
URL:https://acmadeira.pt/evento/campeonato-da-madeira-de-ce-brisa-sem-acucar-2026/
CATEGORIES:Escolas
END:VEVENT
END:VCALENDAR