﻿BEGIN:VCALENDAR
VERSION:2.0
PRODID:-//Associação de Ciclismo da Madeira - ECPv6.15.20//NONSGML v1.0//EN
CALSCALE:GREGORIAN
METHOD:PUBLISH
X-ORIGINAL-URL:https://acmadeira.pt
X-WR-CALDESC:Eventos para Associação de Ciclismo da Madeira
REFRESH-INTERVAL;VALUE=DURATION:PT1H
X-Robots-Tag:noindex
X-PUBLISHED-TTL:PT1H
BEGIN:VTIMEZONE
TZID:Europe/Lisbon
BEGIN:DAYLIGHT
TZOFFSETFROM:+0000
TZOFFSETTO:+0100
TZNAME:WEST
DTSTART:20250330T010000
END:DAYLIGHT
BEGIN:STANDARD
TZOFFSETFROM:+0100
TZOFFSETTO:+0000
TZNAME:WET
DTSTART:20251026T010000
END:STANDARD
BEGIN:DAYLIGHT
TZOFFSETFROM:+0000
TZOFFSETTO:+0100
TZNAME:WEST
DTSTART:20260329T010000
END:DAYLIGHT
BEGIN:STANDARD
TZOFFSETFROM:+0100
TZOFFSETTO:+0000
TZNAME:WET
DTSTART:20261025T010000
END:STANDARD
BEGIN:DAYLIGHT
TZOFFSETFROM:+0000
TZOFFSETTO:+0100
TZNAME:WEST
DTSTART:20270328T010000
END:DAYLIGHT
BEGIN:STANDARD
TZOFFSETFROM:+0100
TZOFFSETTO:+0000
TZNAME:WET
DTSTART:20271031T010000
END:STANDARD
END:VTIMEZONE
BEGIN:VEVENT
DTSTART;TZID=Europe/Lisbon:20260412T000000
DTEND;TZID=Europe/Lisbon:20260412T235959
DTSTAMP:20260422T064054
CREATED:20251222T120852Z
LAST-MODIFIED:20260412T120300Z
UID:4130-1775952000-1776038399@acmadeira.pt
SUMMARY:2ª Taça da Madeira de DHI - A Confeitaria - 2026
DESCRIPTION:Programa\n\n\n\n08:00 – 08:30 – Secretariado junto à meta (Final da pista das Ginjas)09:00 – 11:00 – Treinos11:30 – Manga Qualificação13:30 – Final*15:30 – Entrega de Prémios\, junto à meta (Final da pista das Ginjas) \n\n\n\n\n\nDocumentos: \n\n\n\n\nRegulamentos\n\n\n\nPrograma\n\n\n\nLista de inscritos\n\n\n\nHoras de Partida Qualificação\n\n\n\nClassificações finais\n\n\n\nInscrições Inscrições ainda não estão abertas. \n\n\n\n\nPartilhar:
URL:https://acmadeira.pt/evento/2a-taca-da-madeira-de-dhi-confeitaria-2026/
CATEGORIES:Downhill
ATTACH;FMTTYPE=image/jpeg:https://acmadeira.pt/wp-content/uploads/2025/12/2-dhi-ginjas.jpg
END:VEVENT
END:VCALENDAR