﻿BEGIN:VCALENDAR
VERSION:2.0
PRODID:-//Associação de Ciclismo da Madeira - ECPv6.15.20//NONSGML v1.0//EN
CALSCALE:GREGORIAN
METHOD:PUBLISH
X-WR-CALNAME:Associação de Ciclismo da Madeira
X-ORIGINAL-URL:https://acmadeira.pt
X-WR-CALDESC:Eventos para Associação de Ciclismo da Madeira
REFRESH-INTERVAL;VALUE=DURATION:PT1H
X-Robots-Tag:noindex
X-PUBLISHED-TTL:PT1H
BEGIN:VTIMEZONE
TZID:Europe/Lisbon
BEGIN:DAYLIGHT
TZOFFSETFROM:+0000
TZOFFSETTO:+0100
TZNAME:WEST
DTSTART:20250330T010000
END:DAYLIGHT
BEGIN:STANDARD
TZOFFSETFROM:+0100
TZOFFSETTO:+0000
TZNAME:WET
DTSTART:20251026T010000
END:STANDARD
BEGIN:DAYLIGHT
TZOFFSETFROM:+0000
TZOFFSETTO:+0100
TZNAME:WEST
DTSTART:20260329T010000
END:DAYLIGHT
BEGIN:STANDARD
TZOFFSETFROM:+0100
TZOFFSETTO:+0000
TZNAME:WET
DTSTART:20261025T010000
END:STANDARD
BEGIN:DAYLIGHT
TZOFFSETFROM:+0000
TZOFFSETTO:+0100
TZNAME:WEST
DTSTART:20270328T010000
END:DAYLIGHT
BEGIN:STANDARD
TZOFFSETFROM:+0100
TZOFFSETTO:+0000
TZNAME:WET
DTSTART:20271031T010000
END:STANDARD
END:VTIMEZONE
BEGIN:VEVENT
DTSTART;TZID=Europe/Lisbon:20260328T000000
DTEND;TZID=Europe/Lisbon:20260329T235959
DTSTAMP:20260422T074232
CREATED:20251222T120850Z
LAST-MODIFIED:20260416T090744Z
UID:4127-1774656000-1774828799@acmadeira.pt
SUMMARY:1ª Taça de Portugal Enduro presented by Shimano - Calheta - 2026
DESCRIPTION:Programa\n\n\n\n28 março (Sábado)8h30 – 13h00: Funcionamento do secretariado09h00: Abertura de treinos oficiais15h00: Fecho de treinos oficiais \n\n\n\n29 março (Domingo)8h30: Início da competição no ponto 013h15: Início da competição MINIS14h00: Previsão chegada primeiro atleta15h30: Previsão chegada último atleta17h00: Cerimónia protocolar de entrega de prémios (Pavilhão CDR Prazeres) \n\n\n\n\n\nDocumentos: \n\n\n\n\nRegulamentos\n\n\n\nGuia Técnico\n\n\n\nRacebook\n\n\n\nPercurso\n\n\n\ncomunicado 1\n\n\n\ncomunicado 2\n\n\n\nHoras de Partida\n\n\n\nClassificações\n\n\n\nClassificação Elites\n\n\n\nClassificações Equipas\n\n\n\nInscrições Inscrições ainda não estão abertas. \n\n\n\n\n\n\n\n \nPartilhar:
URL:https://acmadeira.pt/evento/1a-taca-de-portugal-edr-2026/
LOCATION:Prazeres\, Calheta\, Estrada das Eiras 114\,\, Calheta\, Madeira\, 9370-620\, Portugal
CATEGORIES:Enduro,Nacional
ATTACH;FMTTYPE=image/jpeg:https://acmadeira.pt/wp-content/uploads/2026/02/TP_EDR_2026.jpeg
ORGANIZER;CN="AC Madeira":MAILTO:geral@acmadeira.pt
END:VEVENT
BEGIN:VEVENT
DTSTART;TZID=Europe/Lisbon:20260328T000000
DTEND;TZID=Europe/Lisbon:20260329T235959
DTSTAMP:20260422T074232
CREATED:20260112T113735Z
LAST-MODIFIED:20260331T102039Z
UID:4215-1774656000-1774828799@acmadeira.pt
SUMMARY:1ª Taça da Madeira de EDR e Mini-EDR - SOMEQ - 2026
DESCRIPTION:Programa\n\n\n\n28 março (Sábado)8h30 – 13h00: Funcionamento do secretariado09h00: Abertura de treinos oficiais15h00: Fecho de treinos oficiais \n\n\n\n29 março (Domingo)8h30: Início da competição no ponto 013h15: Início da competição MINIS14h00: Previsão chegada primeiro atleta15h30: Previsão chegada último atleta17h00: Cerimónia protocolar de entrega de prémios (Pavilhão CDR Prazeres) \n\n\n\n\n\nDocumentos: \n\n\n\n\nRegulamentos\n\n\n\nGuia Técnico\n\n\n\nRacebook\n\n\n\nPercurso\n\n\n\nClassificações\n\n\n\nClassificações Elites\n\n\n\nClassificação geral\n\n\n\nClassificação equipas\n\n\n\nInscrições Inscrições ainda não estão abertas. \n\n\n\n\n\n\n\n \nPartilhar:
URL:https://acmadeira.pt/evento/taca-da-madeira-de-edr-e-mini-edr-someq-2026/
CATEGORIES:Enduro
ATTACH;FMTTYPE=image/jpeg:https://acmadeira.pt/wp-content/uploads/2026/02/TP_EDR_2026.jpeg
END:VEVENT
END:VCALENDAR