﻿BEGIN:VCALENDAR
VERSION:2.0
PRODID:-//Associação de Ciclismo da Madeira - ECPv6.15.20//NONSGML v1.0//EN
CALSCALE:GREGORIAN
METHOD:PUBLISH
X-WR-CALNAME:Associação de Ciclismo da Madeira
X-ORIGINAL-URL:https://acmadeira.pt
X-WR-CALDESC:Eventos para Associação de Ciclismo da Madeira
REFRESH-INTERVAL;VALUE=DURATION:PT1H
X-Robots-Tag:noindex
X-PUBLISHED-TTL:PT1H
BEGIN:VTIMEZONE
TZID:Europe/Lisbon
BEGIN:DAYLIGHT
TZOFFSETFROM:+0000
TZOFFSETTO:+0100
TZNAME:WEST
DTSTART:20250330T010000
END:DAYLIGHT
BEGIN:STANDARD
TZOFFSETFROM:+0100
TZOFFSETTO:+0000
TZNAME:WET
DTSTART:20251026T010000
END:STANDARD
BEGIN:DAYLIGHT
TZOFFSETFROM:+0000
TZOFFSETTO:+0100
TZNAME:WEST
DTSTART:20260329T010000
END:DAYLIGHT
BEGIN:STANDARD
TZOFFSETFROM:+0100
TZOFFSETTO:+0000
TZNAME:WET
DTSTART:20261025T010000
END:STANDARD
BEGIN:DAYLIGHT
TZOFFSETFROM:+0000
TZOFFSETTO:+0100
TZNAME:WEST
DTSTART:20270328T010000
END:DAYLIGHT
BEGIN:STANDARD
TZOFFSETFROM:+0100
TZOFFSETTO:+0000
TZNAME:WET
DTSTART:20271031T010000
END:STANDARD
END:VTIMEZONE
BEGIN:VEVENT
DTSTART;TZID=Europe/Lisbon:20260301T000000
DTEND;TZID=Europe/Lisbon:20260301T235959
DTSTAMP:20260422T074233
CREATED:20251222T120849Z
LAST-MODIFIED:20260306T141202Z
UID:4121-1772323200-1772409599@acmadeira.pt
SUMMARY:1ª Taça da Madeira de CE - Brisa Sem Açúcar  - 2026
DESCRIPTION:Programa\n\n\n\n15:30 – 16:30 Secretariado – Junto ao cais do Funchal16:30 Reunião de diretores desportivos16:40 – 16:50 Pesagem de Bicicletas16:50 Chamada para a Corrida(Cadetes M/F\, Juniores M/F\, Sub-23 M/F\, Elites M\, Master 30 M/F\, Master 40 M/F\, Master 50M/F\, Master 60 M\, Femininas e CPT M/F).17:00 Início da Corrida(Cadetes M/F\, Juniores M/F\, Sub-23 M/F\, Elites M\, Master 30 M/F\, Master 40 M/F\, Master 50M/F\, Master 60 M\, Femininas e CPT M/F).19:30 Entrega de Prémios \n\n\n\nNota: O horário poderá sofrer alterações \n\n\n\n\n\nDocumentos: \n\n\n\n\nRegulamentos\n\n\n\nPrograma\n\n\n\nLista de Inscritos\n\n\n\nComunicado do Colégio de Comissários\n\n\n\nInscrições Inscrições ainda não estão abertas. \n\n\n\n\n\n\n\n \nPartilhar:
URL:https://acmadeira.pt/evento/1a-taca-da-madeira-de-ce-brisa-2026/
LOCATION:Funchal\, Funchal\, Madeira\, Portugal
CATEGORIES:Estrada
ATTACH;FMTTYPE=image/jpeg:https://acmadeira.pt/wp-content/uploads/2026/02/1_TM_CE_2026.jpg
ORGANIZER;CN="AC Madeira":MAILTO:geral@acmadeira.pt
END:VEVENT
END:VCALENDAR